BEGIN:VCALENDAR
PRODID:-//punkave//apostrophe 1.x//EN
VERSION:1.0
TZ:0
BEGIN:VEVENT
CATEGORIES:MEETING
DTSTART:20120316T040000Z
DTEND:20120318T165959Z
DTSTAMP:20110821T040000Z
SUMMARY:POSTPONED-Kindergarten Lunch Around the World:Italian
DESCRIPTION:POSTPONED. Stay tuned for new date!
LOCATION:
UID:633
END:VEVENT
END:VCALENDAR