BEGIN:VCALENDAR
PRODID:-//punkave//apostrophe 1.x//EN
VERSION:1.0
TZ:0
BEGIN:VEVENT
CATEGORIES:MEETING
DTSTART:20120320T223000Z
DTEND:20120321T000000Z
DTSTAMP:20110821T040000Z
SUMMARY:Admissions Open House
DESCRIPTION:To rsvp to this parent-only evening, please call 215-563-6368 .
LOCATION:
UID:634
END:VEVENT
END:VCALENDAR