BEGIN:VCALENDAR
PRODID:-//punkave//apostrophe 1.x//EN
VERSION:1.0
TZ:0
BEGIN:VEVENT
CATEGORIES:MEETING
DTSTART:20120323T154500Z
DTEND:20120323T160000Z
DTSTAMP:20110821T040000Z
SUMMARY:Staff In-service:SCHOOL DISMISSAL at 11:45
DESCRIPTION:No afternoon classes of childcare this day.
LOCATION:
UID:635
END:VEVENT
END:VCALENDAR