BEGIN:VCALENDAR
PRODID:-//punkave//apostrophe 1.x//EN
VERSION:1.0
TZ:0
BEGIN:VEVENT
CATEGORIES:MEETING
DTSTART:20120326T040000Z
DTEND:20120401T165959Z
DTSTAMP:20110821T040000Z
SUMMARY:SPRING BREAK:SCHOOL CLOSED
DESCRIPTION:School closed for Spring Break - childcare available with registration from 8:30-5:30 Mon-Thur and 8:30-3pm Friday.
LOCATION:
UID:636
END:VEVENT
END:VCALENDAR