BEGIN:VCALENDAR
PRODID:-//punkave//apostrophe 1.x//EN
VERSION:1.0
TZ:0
BEGIN:VEVENT
CATEGORIES:MEETING
DTSTART:20120405T121500Z
DTEND:20120405T130000Z
DTSTAMP:20110821T040000Z
SUMMARY:First Thursday Coffee with Helena Grady
DESCRIPTION:Every First Thursday of the month, discuss a new subject in a relaxed group forum with Helena Grady, Head of School!
LOCATION:
UID:637
END:VEVENT
END:VCALENDAR