BEGIN:VCALENDAR
PRODID:-//punkave//apostrophe 1.x//EN
VERSION:1.0
TZ:0
BEGIN:VEVENT
CATEGORIES:MEETING
DTSTART:20120406T040000Z
DTEND:20120408T165959Z
DTSTAMP:20110821T040000Z
SUMMARY:Kindergarten Lunch Around the World: Japanese
DESCRIPTION:
LOCATION:
UID:638
END:VEVENT
END:VCALENDAR