BEGIN:VCALENDAR
PRODID:-//punkave//apostrophe 1.x//EN
VERSION:1.0
TZ:0
BEGIN:VEVENT
CATEGORIES:MEETING
DTSTART:20120409T040000Z
DTEND:20120411T165959Z
DTSTAMP:20110821T040000Z
SUMMARY:Military Care Package Drive Begins
DESCRIPTION:
LOCATION:
UID:639
END:VEVENT
END:VCALENDAR