BEGIN:VCALENDAR
PRODID:-//punkave//apostrophe 1.x//EN
VERSION:1.0
TZ:0
BEGIN:VEVENT
CATEGORIES:MEETING
DTSTART:20120415T130000Z
DTEND:20120415T160000Z
DTSTAMP:20120309T050000Z
SUMMARY:Playdeck Clean Up Day!
DESCRIPTION:
LOCATION:
UID:902
END:VEVENT
END:VCALENDAR