BEGIN:VCALENDAR
PRODID:-//punkave//apostrophe 1.x//EN
VERSION:1.0
TZ:0
BEGIN:VEVENT
CATEGORIES:MEETING
DTSTART:20120418T040000Z
DTEND:20120420T165959Z
DTSTAMP:20110821T040000Z
SUMMARY:An Evening with Dr. Wendy Mogel
DESCRIPTION:Raising Self-Reliant, Optimistic, Grateful Children in a Nervous World Please join us for an Evening with Wendy Mogel, PhD Wednesday, April 18, 2012, 4:00pm and 7:30pm Location: Congregation Rodeph Shalom, 615 North Broad Street Greene Towne School is pleased to partner with Congregation Rodeph Shalom, FriendsSelect School, Germantown Friends School, St. Peter’s School and The Philadelphia School, to offer this parenting event with New York Times bestselling author, internationally known clinical psychologist and parenting expert Wendy Mogel, PhD. This is a free event, but space is limited and reservations are required. Please contact Dan Slipakoff at 215-627-6747 x 22 or edu@rodephshalom.orgto reserve your seats for either the 4:00 pm or the 7:30 pm lecture. *Dr. Mogel’s speaking events are very popular and seating is limited so please reserve soon to ensure you will be able to attend.
LOCATION:
UID:642
END:VEVENT
END:VCALENDAR