BEGIN:VCALENDAR
PRODID:-//punkave//apostrophe 1.x//EN
VERSION:1.0
TZ:0
BEGIN:VEVENT
CATEGORIES:MEETING
DTSTART:20120420T040000Z
DTEND:20120422T165959Z
DTSTAMP:20110821T040000Z
SUMMARY:Parent/Teacher Conferences:SCHOOL CLOSED
DESCRIPTION:School closed all day for Parent - Teacher conferences. Limited vacation care available from 8am to 5:30pm -must sign up in advance. For care during conference only, you do not need to sign up for this free service.
LOCATION:
UID:643
END:VEVENT
END:VCALENDAR