BEGIN:VCALENDAR
PRODID:-//punkave//apostrophe 1.x//EN
VERSION:1.0
TZ:0
BEGIN:VEVENT
CATEGORIES:MEETING
DTSTART:20120427T154500Z
DTEND:20120427T160000Z
DTSTAMP:20110821T040000Z
SUMMARY:Staff In-service:SCHOOL DISMISSED at 11:45
DESCRIPTION:No afternoon classes or childcare this day.
LOCATION:
UID:645
END:VEVENT
END:VCALENDAR