BEGIN:VCALENDAR
PRODID:-//punkave//apostrophe 1.x//EN
VERSION:1.0
TZ:0
BEGIN:VEVENT
CATEGORIES:MEETING
DTSTART:20120429T040000Z
DTEND:20120507T165959Z
DTSTAMP:20110821T040000Z
SUMMARY:Screen Free Week
DESCRIPTION:This week, try some different activities with your family - turn off the tv, computer, and phone!
LOCATION:
UID:646
END:VEVENT
END:VCALENDAR