BEGIN:VCALENDAR
PRODID:-//punkave//apostrophe 1.x//EN
VERSION:1.0
TZ:0
BEGIN:VEVENT
CATEGORIES:MEETING
DTSTART:20120503T121500Z
DTEND:20120503T130000Z
DTSTAMP:20120315T040000Z
SUMMARY:First Thursday Coffee
DESCRIPTION:Every First Thursday of the month, discuss a new subject in a relaxed group forum with Helena Grady, Head of School! Topic: Toddlers Moving Up to Primary School. Check out this article that will be used in the discussion with Lisa Dissinger!
LOCATION:
UID:917
END:VEVENT
END:VCALENDAR