BEGIN:VCALENDAR
PRODID:-//punkave//apostrophe 1.x//EN
VERSION:1.0
TZ:0
BEGIN:VEVENT
CATEGORIES:MEETING
DTSTART:20120504T040000Z
DTEND:20120506T165959Z
DTSTAMP:20120315T040000Z
SUMMARY:Kindergarten Lunch Around the World:Burmese
DESCRIPTION:
LOCATION:
UID:918
END:VEVENT
END:VCALENDAR