BEGIN:VCALENDAR
PRODID:-//punkave//apostrophe 1.x//EN
VERSION:1.0
TZ:0
BEGIN:VEVENT
CATEGORIES:MEETING
DTSTART:20120511T040000Z
DTEND:20120513T165959Z
DTSTAMP:20120315T040000Z
SUMMARY:Grandparent and Special Friends Day
DESCRIPTION:Please reply by April 26th. If your child’s dismissal plans will be different this day, you must complete the Change of Dismissal form enclosed with the invitation and return to GTS before May 4. Children are not permitted to leave GTS with their guest if we do not have the plan in writing from parents. Children will be dismissed from school only once. Please note, there is NO PARKING directly in front of the school. Thank you for helping us have a safe and special day for everyone.
LOCATION:
UID:916
END:VEVENT
END:VCALENDAR