BEGIN:VCALENDAR
PRODID:-//punkave//apostrophe 1.x//EN
VERSION:1.0
TZ:0
BEGIN:VEVENT
CATEGORIES:MEETING
DTSTART:20120514T230000Z
DTEND:20120515T010000Z
DTSTAMP:20120315T040000Z
SUMMARY:Board Meeting
DESCRIPTION:Board Meetings are always open to GTS Parents.
LOCATION:
UID:920
END:VEVENT
END:VCALENDAR