BEGIN:VCALENDAR
PRODID:-//punkave//apostrophe 1.x//EN
VERSION:1.0
TZ:0
BEGIN:VEVENT
CATEGORIES:MEETING
DTSTART:20120517T040000Z
DTEND:20120519T165959Z
DTSTAMP:20120315T040000Z
SUMMARY:Kindergarten Trip (Coulter and Pysher Classes)
DESCRIPTION:
LOCATION:
UID:921
END:VEVENT
END:VCALENDAR