BEGIN:VCALENDAR
PRODID:-//punkave//apostrophe 1.x//EN
VERSION:1.0
TZ:0
BEGIN:VEVENT
CATEGORIES:MEETING
DTSTART:20120517T220000Z
DTEND:20120518T000000Z
DTSTAMP:20120315T040000Z
SUMMARY:New Parent Orientation and Social
DESCRIPTION:
LOCATION:
UID:922
END:VEVENT
END:VCALENDAR