BEGIN:VCALENDAR
PRODID:-//punkave//apostrophe 1.x//EN
VERSION:1.0
TZ:0
BEGIN:VEVENT
CATEGORIES:MEETING
DTSTART:20120523T121500Z
DTEND:20120523T130000Z
DTSTAMP:20120315T040000Z
SUMMARY:Next Year\'s Kindergarten Parents Coffee
DESCRIPTION:Orientation Coffee for next year\'s K parents.
LOCATION:
UID:923
END:VEVENT
END:VCALENDAR