BEGIN:VCALENDAR
PRODID:-//punkave//apostrophe 1.x//EN
VERSION:1.0
TZ:0
BEGIN:VEVENT
CATEGORIES:MEETING
DTSTART:20120524T040000Z
DTEND:20120526T165959Z
DTSTAMP:20120315T040000Z
SUMMARY:Kindergarten Trip (Matsukevich and Prestas Classes)
DESCRIPTION:
LOCATION:
UID:924
END:VEVENT
END:VCALENDAR