BEGIN:VCALENDAR
PRODID:-//punkave//apostrophe 1.x//EN
VERSION:1.0
TZ:0
BEGIN:VEVENT
CATEGORIES:MEETING
DTSTART:20120525T154500Z
DTEND:20120525T040000Z
DTSTAMP:20120315T040000Z
SUMMARY:Staff In-service: SCHOOL DISMISSED AT 11:45
DESCRIPTION:There are no afternoon programs or child care.
LOCATION:
UID:925
END:VEVENT
END:VCALENDAR