BEGIN:VCALENDAR
PRODID:-//punkave//apostrophe 1.x//EN
VERSION:1.0
TZ:0
BEGIN:VEVENT
CATEGORIES:MEETING
DTSTART:20120528T040000Z
DTEND:20120530T165959Z
DTSTAMP:20120315T040000Z
SUMMARY:Memorial Day:SCHOOL CLOSED
DESCRIPTION:
LOCATION:
UID:926
END:VEVENT
END:VCALENDAR