BEGIN:VCALENDAR
PRODID:-//punkave//apostrophe 1.x//EN
VERSION:1.0
TZ:0
BEGIN:VEVENT
CATEGORIES:MEETING
DTSTART:20120530T040000Z
DTEND:20120602T165959Z
DTSTAMP:20120105T050000Z
SUMMARY:Lemonade Stand and Bake Sale
DESCRIPTION:The Kindergarten students will be having a lemonade stand/bake sale at the 11:45 and 2:50 dismissals on 5/30 and 5/31.
LOCATION:
UID:814
END:VEVENT
END:VCALENDAR