BEGIN:VCALENDAR
PRODID:-//punkave//apostrophe 1.x//EN
VERSION:1.0
TZ:0
BEGIN:VEVENT
CATEGORIES:MEETING
DTSTART:20120608T040000Z
DTEND:20120610T165959Z
DTSTAMP:20120315T040000Z
SUMMARY:Last Day of School *Staggered Dismissal*
DESCRIPTION:Dismissal from 10-11am for all students except Kindergarten. Kindergarten Recognition Ceremony at 11:15am.
LOCATION:
UID:928
END:VEVENT
END:VCALENDAR