BEGIN:VCALENDAR
PRODID:-//punkave//apostrophe 1.x//EN
VERSION:1.0
TZ:0
BEGIN:VEVENT
CATEGORIES:MEETING
DTSTART:20120611T040000Z
DTEND:20120613T165959Z
DTSTAMP:20120315T040000Z
SUMMARY:GTS Family Day at Sesame Place
DESCRIPTION:
LOCATION:
UID:929
END:VEVENT
END:VCALENDAR