BEGIN:VCALENDAR
PRODID:-//punkave//apostrophe 1.x//EN
VERSION:1.0
TZ:0
BEGIN:VEVENT
CATEGORIES:MEETING
DTSTART:20120618T040000Z
DTEND:20120620T165959Z
DTSTAMP:20120315T040000Z
SUMMARY:First Day of Summer Camp
DESCRIPTION:
LOCATION:
UID:930
END:VEVENT
END:VCALENDAR