BEGIN:VCALENDAR
PRODID:-//punkave//apostrophe 1.x//EN
VERSION:1.0
TZ:0
BEGIN:VEVENT
CATEGORIES:MEETING
DTSTART:20120704T040000Z
DTEND:20120706T165959Z
DTSTAMP:20120628T040000Z
SUMMARY:Independence Day: CAMP CLOSED
DESCRIPTION:Camp is closed in observance of Independence Day.
LOCATION:
UID:1082
END:VEVENT
END:VCALENDAR