BEGIN:VCALENDAR
PRODID:-//punkave//apostrophe 1.x//EN
VERSION:1.0
TZ:0
BEGIN:VEVENT
CATEGORIES:MEETING
DTSTART:20120903T040000Z
DTEND:20120905T165959Z
DTSTAMP:20120814T040000Z
SUMMARY:Labor Day: SCHOOL CLOSED
DESCRIPTION:SCHOOL CLOSED in observance of Labor Day. ADM CLOSED.
LOCATION:
UID:1089
END:VEVENT
END:VCALENDAR