BEGIN:VCALENDAR
PRODID:-//punkave//apostrophe 1.x//EN
VERSION:1.0
TZ:0
BEGIN:VEVENT
CATEGORIES:MEETING
DTSTART:20120904T040000Z
DTEND:20120909T165959Z
DTSTAMP:20120814T040000Z
SUMMARY:Phase-In
DESCRIPTION:School has an abbreviated phase-in schedule this week. All schedules have been sent out; contact the office for assistance. ADM in session Thursday and Friday, 9/6 and 9/7.
LOCATION:
UID:1090
END:VEVENT
END:VCALENDAR