BEGIN:VCALENDAR
PRODID:-//punkave//apostrophe 1.x//EN
VERSION:1.0
TZ:0
BEGIN:VEVENT
CATEGORIES:MEETING
DTSTART:20120905T220000Z
DTEND:20120906T001500Z
DTSTAMP:20120814T040000Z
SUMMARY:Parent Potluck with Ms. Dhar and Mr. Jagusak
DESCRIPTION:Parent only evening with Neepa Dhar and Brian Jagusak.
LOCATION:
UID:1091
END:VEVENT
END:VCALENDAR