BEGIN:VCALENDAR
PRODID:-//punkave//apostrophe 1.x//EN
VERSION:1.0
TZ:0
BEGIN:VEVENT
CATEGORIES:MEETING
DTSTART:20120906T123000Z
DTEND:20120906T133000Z
DTSTAMP:20120814T040000Z
SUMMARY:Parent Coffee and Orientation
DESCRIPTION:Parent Meet and Greet Coffee and Orientation.
LOCATION:
UID:1092
END:VEVENT
END:VCALENDAR