BEGIN:VCALENDAR
PRODID:-//punkave//apostrophe 1.x//EN
VERSION:1.0
TZ:0
BEGIN:VEVENT
CATEGORIES:MEETING
DTSTART:20120910T220000Z
DTEND:20120911T000000Z
DTSTAMP:20120814T040000Z
SUMMARY:Board Meeting
DESCRIPTION:Board Meetings are always open to GTS parents.
LOCATION:
UID:1096
END:VEVENT
END:VCALENDAR