BEGIN:VCALENDAR
PRODID:-//punkave//apostrophe 1.x//EN
VERSION:1.0
TZ:0
BEGIN:VEVENT
CATEGORIES:MEETING
DTSTART:20120910T040000Z
DTEND:20120912T165959Z
DTSTAMP:20120814T040000Z
SUMMARY:First Official Day of School
DESCRIPTION:First official day of school with regular schedule.
LOCATION:
UID:1095
END:VEVENT
END:VCALENDAR