BEGIN:VCALENDAR
PRODID:-//punkave//apostrophe 1.x//EN
VERSION:1.0
TZ:0
BEGIN:VEVENT
CATEGORIES:MEETING
DTSTART:20120911T220000Z
DTEND:20120912T001500Z
DTSTAMP:20120814T040000Z
SUMMARY:Parent Potluck and Workshop with Ms. Prestas
DESCRIPTION:Parent only evening with Jean Prestas.
LOCATION:
UID:1097
END:VEVENT
END:VCALENDAR