BEGIN:VCALENDAR
PRODID:-//punkave//apostrophe 1.x//EN
VERSION:1.0
TZ:0
BEGIN:VEVENT
CATEGORIES:MEETING
DTSTART:20120912T121500Z
DTEND:20120912T130000Z
DTSTAMP:20120814T040000Z
SUMMARY:Kindergarten Parent Coffee
DESCRIPTION:Parent Coffee for K parents.
LOCATION:
UID:1098
END:VEVENT
END:VCALENDAR