BEGIN:VCALENDAR
PRODID:-//punkave//apostrophe 1.x//EN
VERSION:1.0
TZ:0
BEGIN:VEVENT
CATEGORIES:MEETING
DTSTART:20120913T220000Z
DTEND:20120914T001500Z
DTSTAMP:20120814T040000Z
SUMMARY:Parent Potluck and Workshop with Mrs. Pysher
DESCRIPTION:Parent only evening with Michelle Pysher.
LOCATION:
UID:1099
END:VEVENT
END:VCALENDAR