BEGIN:VCALENDAR
PRODID:-//punkave//apostrophe 1.x//EN
VERSION:1.0
TZ:0
BEGIN:VEVENT
CATEGORIES:MEETING
DTSTART:20120918T220000Z
DTEND:20120919T001500Z
DTSTAMP:20120815T040000Z
SUMMARY:Parent Potluck and Workshop with Ms. Coulter
DESCRIPTION:Parent only evening with Jennifer Coulter.
LOCATION:
UID:1100
END:VEVENT
END:VCALENDAR