BEGIN:VCALENDAR
PRODID:-//punkave//apostrophe 1.x//EN
VERSION:1.0
TZ:0
BEGIN:VEVENT
CATEGORIES:MEETING
DTSTART:20120920T220000Z
DTEND:20120921T001500Z
DTSTAMP:20120815T040000Z
SUMMARY:Parent Potluck and Workshop with Ms. Matsukevich
DESCRIPTION:Parent only evening with Anna Matsukevich.
LOCATION:
UID:1101
END:VEVENT
END:VCALENDAR