BEGIN:VCALENDAR
PRODID:-//punkave//apostrophe 1.x//EN
VERSION:1.0
TZ:0
BEGIN:VEVENT
CATEGORIES:MEETING
DTSTART:20120928T040000Z
DTEND:20120930T165959Z
DTSTAMP:20120815T040000Z
SUMMARY:Kindergarten Field Trip
DESCRIPTION:
LOCATION:
UID:1102
END:VEVENT
END:VCALENDAR