BEGIN:VCALENDAR
PRODID:-//punkave//apostrophe 1.x//EN
VERSION:1.0
TZ:0
BEGIN:VEVENT
CATEGORIES:MEETING
DTSTART:20120929T150000Z
DTEND:20120929T180000Z
DTSTAMP:20120815T040000Z
SUMMARY:Fall Picnic
DESCRIPTION:Rain Date October 13.
LOCATION:
UID:1103
END:VEVENT
END:VCALENDAR