BEGIN:VCALENDAR
PRODID:-//punkave//apostrophe 1.x//EN
VERSION:1.0
TZ:0
BEGIN:VEVENT
CATEGORIES:MEETING
DTSTART:20121003T230000Z
DTEND:20121004T000000Z
DTSTAMP:20120816T040000Z
SUMMARY:Parent Education: Fire and Safety Tips
DESCRIPTION:Parent only evening to learn fire and safety tips on the home from expert Bob Wilmot.
LOCATION:
UID:1105
END:VEVENT
END:VCALENDAR