BEGIN:VCALENDAR
PRODID:-//punkave//apostrophe 1.x//EN
VERSION:1.0
TZ:0
BEGIN:VEVENT
CATEGORIES:MEETING
DTSTART:20121005T040000Z
DTEND:20121007T165959Z
DTSTAMP:20120816T040000Z
SUMMARY:Staff In-service: SCHOOL CLOSED
DESCRIPTION:ADM in session.
LOCATION:
UID:1107
END:VEVENT
END:VCALENDAR