BEGIN:VCALENDAR
PRODID:-//punkave//apostrophe 1.x//EN
VERSION:1.0
TZ:0
BEGIN:VEVENT
CATEGORIES:MEETING
DTSTART:20121008T040000Z
DTEND:20121010T165959Z
DTSTAMP:20120816T040000Z
SUMMARY:Columbus Day: SCHOOL CLOSED
DESCRIPTION:ADM CLOSED.
LOCATION:
UID:1108
END:VEVENT
END:VCALENDAR