BEGIN:VCALENDAR
PRODID:-//punkave//apostrophe 1.x//EN
VERSION:1.0
TZ:0
BEGIN:VEVENT
CATEGORIES:MEETING
DTSTART:20121010T130000Z
DTEND:20121010T143000Z
DTSTAMP:20120816T040000Z
SUMMARY:Toddler Parent Orientation to Primary School Tour
DESCRIPTION:For current toddler parents who will be going to primary class next year.
LOCATION:
UID:1110
END:VEVENT
END:VCALENDAR