BEGIN:VCALENDAR
PRODID:-//punkave//apostrophe 1.x//EN
VERSION:1.0
TZ:0
BEGIN:VEVENT
CATEGORIES:MEETING
DTSTART:20121011T121500Z
DTEND:20121011T130000Z
DTSTAMP:20120816T040000Z
SUMMARY:Coffee with Jean Prestas
DESCRIPTION:Primary Parents coffee with Jean Prestas.
LOCATION:
UID:1111
END:VEVENT
END:VCALENDAR