BEGIN:VCALENDAR
PRODID:-//punkave//apostrophe 1.x//EN
VERSION:1.0
TZ:0
BEGIN:VEVENT
CATEGORIES:MEETING
DTSTART:20121011T220000Z
DTEND:20121012T000000Z
DTSTAMP:20120926T040000Z
SUMMARY:GTMS Auction Committee Meeting, Thursday October 11th 6:00 p.m. East Building
DESCRIPTION:The Auction Committee will be having its first meeting on Thursday, October 11th beginning at 6:00 p.m. at Greene Towne Montessori East (2121 Arch.) We will discuss the general auction timeline and opportunities for volunteering as well as stuffing and labeling envelopes to solicit items for the Holiday Online Pre-Sale Auction.
LOCATION:
UID:1194
END:VEVENT
END:VCALENDAR