BEGIN:VCALENDAR
PRODID:-//punkave//apostrophe 1.x//EN
VERSION:1.0
TZ:0
BEGIN:VEVENT
CATEGORIES:MEETING
DTSTART:20121016T121500Z
DTEND:20121016T130000Z
DTSTAMP:20120816T040000Z
SUMMARY:Coffee with Michelle Pysher
DESCRIPTION:Primary parents coffee with Michelle Pysher.
LOCATION:
UID:1114
END:VEVENT
END:VCALENDAR