BEGIN:VCALENDAR
PRODID:-//punkave//apostrophe 1.x//EN
VERSION:1.0
TZ:0
BEGIN:VEVENT
CATEGORIES:MEETING
DTSTART:20121017T121500Z
DTEND:20121017T130000Z
DTSTAMP:20120816T040000Z
SUMMARY:Coffee with Laura Connor
DESCRIPTION:Toddler parents coffee with Laura Connor.
LOCATION:
UID:1116
END:VEVENT
END:VCALENDAR