BEGIN:VCALENDAR
PRODID:-//punkave//apostrophe 1.x//EN
VERSION:1.0
TZ:0
BEGIN:VEVENT
CATEGORIES:MEETING
DTSTART:20121018T121500Z
DTEND:20121018T130000Z
DTSTAMP:20120816T040000Z
SUMMARY:Coffee with Neepa Dhar
DESCRIPTION:Primary parents coffee with Neepa Dhar.
LOCATION:
UID:1117
END:VEVENT
END:VCALENDAR