BEGIN:VCALENDAR
PRODID:-//punkave//apostrophe 1.x//EN
VERSION:1.0
TZ:0
BEGIN:VEVENT
CATEGORIES:MEETING
DTSTART:20121018T213000Z
DTEND:20121018T230000Z
DTSTAMP:20120816T040000Z
SUMMARY:Kindergarten Year Workshop (For next year\'s K parents)
DESCRIPTION:
LOCATION:
UID:1118
END:VEVENT
END:VCALENDAR